BEGIN:VCALENDAR
VERSION:2.0
PRODID:-//wp-events-plugin.com//7.2.3.1//EN
BEGIN:VEVENT
UID:15@southernlampsinc.com
DTSTART;VALUE=DATE:20240318
DTEND;VALUE=DATE:20240321
DTSTAMP:20240528T093121Z
URL:https://southernlampsinc.com/events/print-uv/
SUMMARY:Print UV
DESCRIPTION:Las Vegas\, NV
END:VEVENT
END:VCALENDAR